BEGIN:VCALENDAR
VERSION:2.0
PRODID:-//platt.best - Drift vun Harten//NONSGML kigkonsult.se iCalcreator 
 2.30.10//
CALSCALE:GREGORIAN
METHOD:PUBLISH
UID:7b30a214-e4dc-495a-a829-917ac3651650
X-WR-CALNAME:iCagenda
X-WR-CALDESC:Event Management Extension for Joomla!
X-WR-RELCALID:3E26604A-50F4-4449-8B3E-E4F4932D05B5
X-WR-TIMEZONE:Europe/Berlin
BEGIN:VTIMEZONE
TZID:Europe/Berlin
BEGIN:STANDARD
TZNAME:CET
DTSTART:20251026T030000
TZOFFSETFROM:+0200
TZOFFSETTO:+0100
RDATE:20261025T030000
END:STANDARD
BEGIN:DAYLIGHT
TZNAME:CEST
DTSTART:20250330T020000
TZOFFSETFROM:+0100
TZOFFSETTO:+0200
RDATE:20260329T020000
RDATE:20270328T020000
END:DAYLIGHT
END:VTIMEZONE
BEGIN:VEVENT
UID:b1de3f95-1525-4216-8368-e6c878cc9700
DTSTAMP:20260421T085745Z
CATEGORIES:Veranstalten
CLASS:PUBLIC
DESCRIPTION:
DTSTART:20260328T090000Z
DTEND:20260328T090000Z
GEO:+54.767067;+8.978482
LOCATION:Nordsee Akademie\, Flensburger Str. 18\, 25917 Leck
ORGANIZER;CN=:post@platt.best
SEQUENCE:1
SUMMARY:platt drift barcamp
TRANSP:OPAQUE
URL:https://www.platt.best/platt-termine/49-platt-drift-barcamp/2026-03-28-
 10-00
END:VEVENT
END:VCALENDAR
